BEGIN:VCALENDAR
VERSION:2.0
PRODID:-//Ashbury Parish Website - ECPv5.14.2.1//NONSGML v1.0//EN
CALSCALE:GREGORIAN
METHOD:PUBLISH
X-WR-CALNAME:Ashbury Parish Website
X-ORIGINAL-URL:https://www.ashbury.org.uk
X-WR-CALDESC:Events for Ashbury Parish Website
REFRESH-INTERVAL;VALUE=DURATION:PT1H
X-Robots-Tag:noindex
X-PUBLISHED-TTL:PT1H
BEGIN:VTIMEZONE
TZID:Europe/London
BEGIN:DAYLIGHT
TZOFFSETFROM:+0000
TZOFFSETTO:+0100
TZNAME:BST
DTSTART:20240331T010000
END:DAYLIGHT
BEGIN:STANDARD
TZOFFSETFROM:+0100
TZOFFSETTO:+0000
TZNAME:GMT
DTSTART:20241027T010000
END:STANDARD
END:VTIMEZONE
BEGIN:VEVENT
DTSTART;TZID=Europe/London:20240323T090000
DTEND;TZID=Europe/London:20240323T130000
DTSTAMP:20260420T211033
CREATED:20231229T171318Z
LAST-MODIFIED:20231229T171318Z
UID:9360-1711184400-1711198800@www.ashbury.org.uk
SUMMARY:Private Use
DESCRIPTION:
URL:https://www.ashbury.org.uk/event/private-use-13/
LOCATION:Ashbury Village Hall
CATEGORIES:Village Hall
END:VEVENT
BEGIN:VEVENT
DTSTART;TZID=Europe/London:20240323T090000
DTEND;TZID=Europe/London:20240323T130000
DTSTAMP:20260420T211033
CREATED:20240115T142517Z
LAST-MODIFIED:20240115T142517Z
UID:9397-1711184400-1711198800@www.ashbury.org.uk
SUMMARY:Private Use
DESCRIPTION:
URL:https://www.ashbury.org.uk/event/private-use-15/
LOCATION:Ashbury Village Hall
CATEGORIES:Village Hall
END:VEVENT
BEGIN:VEVENT
DTSTART;TZID=Europe/London:20240323T140000
DTEND;TZID=Europe/London:20240323T170000
DTSTAMP:20260420T211033
CREATED:20240115T142607Z
LAST-MODIFIED:20240115T142607Z
UID:9399-1711202400-1711213200@www.ashbury.org.uk
SUMMARY:Choir
DESCRIPTION:
URL:https://www.ashbury.org.uk/event/choir-2/
LOCATION:Ashbury Village Hall
CATEGORIES:Village Hall
END:VEVENT
END:VCALENDAR